BEGIN:VCALENDAR
VERSION:2.0
PRODID:-//RIGHTHERE//CALENDARIZE IT V3.2//EN
BEGIN:VTIMEZONE
TZID:Europe/Berlin
X-MICROSOFT-CDO-TZID:4
BEGIN:STANDARD
DTSTART:20251026T010000
TZOFFSETFROM:+0200
TZOFFSETTO:+0100
TZNAME:CET
END:STANDARD
BEGIN:DAYLIGHT
DTSTART:20260329T010000
TZOFFSETFROM:+0100
TZOFFSETTO:+0200
TZNAME:CEST
END:DAYLIGHT
BEGIN:STANDARD
DTSTART:20261025T010000
TZOFFSETFROM:+0200
TZOFFSETTO:+0100
TZNAME:CET
END:STANDARD
END:VTIMEZONE
BEGIN:VEVENT
UID:6048-events@www.gemeinde-mehring.de
DTSTART;TZID=Europe/Berlin:20260402T190000
DTEND;TZID=Europe/Berlin:20260402T210000
DTSTAMP;TZID=Europe/Berlin:20251124T092701
SUMMARY:Gründonnerstag für Pfarrverband mit Chor
URL:https://www.gemeinde-mehring.de/events/gruendonnerstag-fuer-pfarrverban
 d-mit-chor/
ORGANIZER;CN=Pfarrei/Kinderkrippe/Kindergarten:
LOCATION:Pfarrkirche Mehring
END:VEVENT
END:VCALENDAR