BEGIN:VCALENDAR
VERSION:2.0
PRODID:-//RIGHTHERE//CALENDARIZE IT V3.2//EN
BEGIN:VTIMEZONE
TZID:Europe/Berlin
X-MICROSOFT-CDO-TZID:4
BEGIN:STANDARD
DTSTART:20251026T010000
TZOFFSETFROM:+0200
TZOFFSETTO:+0100
TZNAME:CET
END:STANDARD
BEGIN:DAYLIGHT
DTSTART:20260329T010000
TZOFFSETFROM:+0100
TZOFFSETTO:+0200
TZNAME:CEST
END:DAYLIGHT
BEGIN:STANDARD
DTSTART:20261025T010000
TZOFFSETFROM:+0200
TZOFFSETTO:+0100
TZNAME:CET
END:STANDARD
END:VTIMEZONE
BEGIN:VEVENT
UID:5783-events@www.gemeinde-mehring.de
DTSTART;TZID=Europe/Berlin:20250726T180000
DTEND;TZID=Europe/Berlin:20250726T000000
DTSTAMP;TZID=Europe/Berlin:20250724T090822
SUMMARY:Sommerfest der Wildschützen Mehring
URL:https://www.gemeinde-mehring.de/events/sommerfest-der-wildschuetzen-meh
 ring/
LOCATION:Familie Schick
END:VEVENT
END:VCALENDAR