BEGIN:VCALENDAR
VERSION:2.0
PRODID:-//RIGHTHERE//CALENDARIZE IT V3.2//EN
BEGIN:VTIMEZONE
TZID:Europe/Berlin
X-MICROSOFT-CDO-TZID:4
BEGIN:STANDARD
DTSTART:20251026T010000
TZOFFSETFROM:+0200
TZOFFSETTO:+0100
TZNAME:CET
END:STANDARD
BEGIN:DAYLIGHT
DTSTART:20260329T010000
TZOFFSETFROM:+0100
TZOFFSETTO:+0200
TZNAME:CEST
END:DAYLIGHT
BEGIN:STANDARD
DTSTART:20261025T010000
TZOFFSETFROM:+0200
TZOFFSETTO:+0100
TZNAME:CET
END:STANDARD
END:VTIMEZONE
BEGIN:VEVENT
UID:5659-events@www.gemeinde-mehring.de
DTSTART;TZID=Europe/Berlin:20251011T140000
DTEND;TZID=Europe/Berlin:20251011T160000
DTSTAMP;TZID=Europe/Berlin:20250430T073154
SUMMARY:Vortrag „Können Effektive Mikroorganismen\, Fermente\, Kompostte
 e die Fruchtbarkeit des Bodens erhöhen?“
URL:https://www.gemeinde-mehring.de/events/vortrag-koennen-effektive-mikroo
 rganismen-fermente-komposttee-die-fruchtbarkeit-des-bodens-erhoehen/
LOCATION:Schacherbauerhof
END:VEVENT
END:VCALENDAR