BEGIN:VCALENDAR
VERSION:2.0
PRODID:-//RIGHTHERE//CALENDARIZE IT V3.2//EN
BEGIN:VTIMEZONE
TZID:Europe/Berlin
X-MICROSOFT-CDO-TZID:4
BEGIN:STANDARD
DTSTART:20251026T010000
TZOFFSETFROM:+0200
TZOFFSETTO:+0100
TZNAME:CET
END:STANDARD
BEGIN:DAYLIGHT
DTSTART:20260329T010000
TZOFFSETFROM:+0100
TZOFFSETTO:+0200
TZNAME:CEST
END:DAYLIGHT
BEGIN:STANDARD
DTSTART:20261025T010000
TZOFFSETFROM:+0200
TZOFFSETTO:+0100
TZNAME:CET
END:STANDARD
END:VTIMEZONE
BEGIN:VEVENT
UID:5657-events@www.gemeinde-mehring.de
DTSTART;TZID=Europe/Berlin:20250920T140000
DTEND;TZID=Europe/Berlin:20250920T000000
DTSTAMP;TZID=Europe/Berlin:20250430T073035
SUMMARY:Hoffest Schacherbauer
RDATE;TZID=Europe/Berlin;VALUE=PERIOD:20260919T140000/20260919T140000
URL:https://www.gemeinde-mehring.de/events/hoffest/
ORGANIZER;CN=Sonstiges:
LOCATION:Schacherbauerhof
END:VEVENT
END:VCALENDAR