BEGIN:VCALENDAR
VERSION:2.0
PRODID:-//RIGHTHERE//CALENDARIZE IT V3.2//EN
BEGIN:VTIMEZONE
TZID:Europe/Berlin
X-MICROSOFT-CDO-TZID:4
BEGIN:STANDARD
DTSTART:20251026T010000
TZOFFSETFROM:+0200
TZOFFSETTO:+0100
TZNAME:CET
END:STANDARD
BEGIN:DAYLIGHT
DTSTART:20260329T010000
TZOFFSETFROM:+0100
TZOFFSETTO:+0200
TZNAME:CEST
END:DAYLIGHT
BEGIN:STANDARD
DTSTART:20261025T010000
TZOFFSETFROM:+0200
TZOFFSETTO:+0100
TZNAME:CET
END:STANDARD
END:VTIMEZONE
BEGIN:VEVENT
UID:5583-events@www.gemeinde-mehring.de
DTSTART;TZID=Europe/Berlin:20250403T170000
DTEND;TZID=Europe/Berlin:20250403T183000
DTSTAMP;TZID=Europe/Berlin:20250320T175909
SUMMARY:Öffentliche Informationsveranstaltung zum ersten Teilprojekt von H
 yPipe one
URL:https://www.gemeinde-mehring.de/events/oeffentliche-informationsveranst
 altung-zum-ersten-teilprojekt-von-hypipe-one/
LOCATION:Sportheim Mehring
END:VEVENT
END:VCALENDAR